BEGIN:VCALENDAR
VERSION:2.0
PRODID:-//ERGaR - ECPv6.2.9//NONSGML v1.0//EN
CALSCALE:GREGORIAN
METHOD:PUBLISH
X-ORIGINAL-URL:https://www.ergar.org
X-WR-CALDESC:Events for ERGaR
REFRESH-INTERVAL;VALUE=DURATION:PT1H
X-Robots-Tag:noindex
X-PUBLISHED-TTL:PT1H
BEGIN:VTIMEZONE
TZID:UTC
BEGIN:STANDARD
TZOFFSETFROM:+0000
TZOFFSETTO:+0000
TZNAME:UTC
DTSTART:20240101T000000
END:STANDARD
END:VTIMEZONE
BEGIN:VEVENT
DTSTART;TZID=UTC:20240220T080000
DTEND;TZID=UTC:20240222T170000
DTSTAMP:20260423T094456
CREATED:20231218T143811Z
LAST-MODIFIED:20240206T093820Z
UID:2074-1708416000-1708621200@www.ergar.org
SUMMARY:E-world energy and water 2024 + ERGaR Networking event
DESCRIPTION:E-world energy & water is the place where the European energy industry comes together. Serving as an information platform for the energy sector\, E-world is gathering international decision makers in Essen each year. More than one fifth of the exhibiting companies are based abroad. The majority of international exhibitors come from countries of the European Union. \nERGaR is also organising a networking drinks meeting with its members on 20 February. Please email valentin.calfa@ergar.org for more details.
URL:https://www.ergar.org/event/e-world-energy-water-2024/
LOCATION:Essen
ATTACH;FMTTYPE=image/png:https://www.ergar.org/wp-content/uploads/2023/12/Eworld2024.png
END:VEVENT
BEGIN:VEVENT
DTSTART;TZID=UTC:20240222T090000
DTEND;TZID=UTC:20240222T173000
DTSTAMP:20260423T094456
CREATED:20231221T103641Z
LAST-MODIFIED:20240111T161541Z
UID:2168-1708592400-1708623000@www.ergar.org
SUMMARY:Annual ISCC Global Sustainability Conference
DESCRIPTION:
URL:https://www.ergar.org/event/annual-iscc-global-sustainability-conference/
LOCATION:Brussels\, Belgium
CATEGORIES:External event
ATTACH;FMTTYPE=image/jpeg:https://www.ergar.org/wp-content/uploads/2023/12/48q-_d7gjnHxQMZs.jpg
END:VEVENT
END:VCALENDAR