BEGIN:VCALENDAR
VERSION:2.0
PRODID:-//ERGaR - ECPv6.2.9//NONSGML v1.0//EN
CALSCALE:GREGORIAN
METHOD:PUBLISH
X-WR-CALNAME:ERGaR
X-ORIGINAL-URL:https://www.ergar.org
X-WR-CALDESC:Events for ERGaR
REFRESH-INTERVAL;VALUE=DURATION:PT1H
X-Robots-Tag:noindex
X-PUBLISHED-TTL:PT1H
BEGIN:VTIMEZONE
TZID:UTC
BEGIN:STANDARD
TZOFFSETFROM:+0000
TZOFFSETTO:+0000
TZNAME:UTC
DTSTART:20240101T000000
END:STANDARD
END:VTIMEZONE
BEGIN:VEVENT
DTSTART;TZID=UTC:20240916T130000
DTEND;TZID=UTC:20240916T143000
DTSTAMP:20260422T205823
CREATED:20240703T092551Z
LAST-MODIFIED:20240730T063814Z
UID:3104-1726491600-1726497000@www.ergar.org
SUMMARY:ERGaR System Participants Working Group
DESCRIPTION:The regular forum for the ERGaR registries to meet and exchange. For more details\, send an email to valentin.calfa@ergar.org
URL:https://www.ergar.org/event/ergar-system-participants-working-group/
LOCATION:Online
CATEGORIES:ERGaR
ATTACH;FMTTYPE=image/png:https://www.ergar.org/wp-content/uploads/2024/07/New-Board-Members-38.png
ORGANIZER;CN="ERGaR":MAILTO:valentin.calfa@ergar.eu
END:VEVENT
END:VCALENDAR