BEGIN:VCALENDAR
VERSION:2.0
PRODID:-//ERGaR - ECPv6.2.9//NONSGML v1.0//EN
CALSCALE:GREGORIAN
METHOD:PUBLISH
X-ORIGINAL-URL:https://www.ergar.org
X-WR-CALDESC:Events for ERGaR
REFRESH-INTERVAL;VALUE=DURATION:PT1H
X-Robots-Tag:noindex
X-PUBLISHED-TTL:PT1H
BEGIN:VTIMEZONE
TZID:UTC
BEGIN:STANDARD
TZOFFSETFROM:+0000
TZOFFSETTO:+0000
TZNAME:UTC
DTSTART:20240101T000000
END:STANDARD
END:VTIMEZONE
BEGIN:VEVENT
DTSTART;TZID=UTC:20241113T100000
DTEND;TZID=UTC:20241113T120000
DTSTAMP:20260422T172743
CREATED:20240829T083019Z
LAST-MODIFIED:20240829T083019Z
UID:3132-1731492000-1731499200@www.ergar.org
SUMMARY:ERGaR Training #3: Situation in different countries
DESCRIPTION:This session will focus on the situation in different countries and will include updates from Germany\, Netherlands\, UK\, Denmark and Austria. For more information\, send an email to valentin.calfa@ergar.org
URL:https://www.ergar.org/event/ergar-training-3-situation-different-countries/
LOCATION:Online
ATTACH;FMTTYPE=image/png:https://www.ergar.org/wp-content/uploads/2024/08/New-Board-Members-41.png
ORGANIZER;CN="ERGaR":MAILTO:valentin.calfa@ergar.eu
END:VEVENT
END:VCALENDAR