BEGIN:VCALENDAR
VERSION:2.0
PRODID:-//ERGaR - ECPv6.2.9//NONSGML v1.0//EN
CALSCALE:GREGORIAN
METHOD:PUBLISH
X-WR-CALNAME:ERGaR
X-ORIGINAL-URL:https://www.ergar.org
X-WR-CALDESC:Events for ERGaR
REFRESH-INTERVAL;VALUE=DURATION:PT1H
X-Robots-Tag:noindex
X-PUBLISHED-TTL:PT1H
BEGIN:VTIMEZONE
TZID:UTC
BEGIN:STANDARD
TZOFFSETFROM:+0000
TZOFFSETTO:+0000
TZNAME:UTC
DTSTART:20240101T000000
END:STANDARD
END:VTIMEZONE
BEGIN:VEVENT
DTSTART;TZID=UTC:20241118T080000
DTEND;TZID=UTC:20241122T170000
DTSTAMP:20260422T172315
CREATED:20240702T094839Z
LAST-MODIFIED:20240702T094839Z
UID:3089-1731916800-1732294800@www.ergar.org
SUMMARY:European Hydrogen Week
DESCRIPTION:More information here https://euhydrogenweek.eu/ 
URL:https://www.ergar.org/event/european-hydrogen-week/
LOCATION:Brussels\, Belgium
CATEGORIES:External event
ATTACH;FMTTYPE=image/jpeg:https://www.ergar.org/wp-content/uploads/2024/07/gfps-events-logo-european-hydrogen-week-be.jpg
END:VEVENT
BEGIN:VEVENT
DTSTART;VALUE=DATE:20241120
DTEND;VALUE=DATE:20241122
DTSTAMP:20260422T172315
CREATED:20241108T092421Z
LAST-MODIFIED:20241108T092421Z
UID:3207-1732060800-1732233599@www.ergar.org
SUMMARY:RENMAD Biomethane Italia 2024
DESCRIPTION:Join us at RENMAD Biomethane Italia 2024 (November 20-21\, Bologna)  to explore Italy’s biomethane market\, learn about investment opportunities\, and pioneer change in the renewable energy landscape. Don’t miss this opportunity to be part of Italy’s biomethane revolution. Attend this event and be at the forefront of Italy’s sustainable energy future. Take a look at the brochure here \nERGaR members can benefit from a 15% discount. For more information\, please contact valentin.calfa@ergar.org
URL:https://www.ergar.org/event/renmad-biomethane-italia-2024/
LOCATION:Bologna\, Italy
ATTACH;FMTTYPE=image/jpeg:https://www.ergar.org/wp-content/uploads/2024/11/MP-ERGAR-E030-RENMAD-BIOMETANO-Italia.jpg
END:VEVENT
END:VCALENDAR