BEGIN:VCALENDAR
VERSION:2.0
PRODID:-//ERGaR - ECPv6.2.9//NONSGML v1.0//EN
CALSCALE:GREGORIAN
METHOD:PUBLISH
X-WR-CALNAME:ERGaR
X-ORIGINAL-URL:https://www.ergar.org
X-WR-CALDESC:Events for ERGaR
REFRESH-INTERVAL;VALUE=DURATION:PT1H
X-Robots-Tag:noindex
X-PUBLISHED-TTL:PT1H
BEGIN:VTIMEZONE
TZID:Europe/Brussels
BEGIN:DAYLIGHT
TZOFFSETFROM:+0100
TZOFFSETTO:+0200
TZNAME:CEST
DTSTART:20250330T010000
END:DAYLIGHT
BEGIN:STANDARD
TZOFFSETFROM:+0200
TZOFFSETTO:+0100
TZNAME:CET
DTSTART:20251026T010000
END:STANDARD
TZID:UTC
BEGIN:STANDARD
TZOFFSETFROM:+0000
TZOFFSETTO:+0000
TZNAME:UTC
DTSTART:20260101T000000
END:STANDARD
END:VTIMEZONE
BEGIN:VEVENT
DTSTART;TZID=Europe/Brussels:20251202T080000
DTEND;TZID=Europe/Brussels:20251204T170000
DTSTAMP:20260420T065131
CREATED:20251001T083000Z
LAST-MODIFIED:20251001T083000Z
UID:3673-1764662400-1764867600@www.ergar.org
SUMMARY:Green Gas Congress
DESCRIPTION:Green Gas Service GmbH\, in cooperation with the Compost and Biogas Association of Austria\, as well as the Upper Austrian Chamber of Commerce\, is organizing the 3-day Green Gas Congress at the Messe Wels from December 2nd to 4th\, 2025. \nThis year\, interesting lectures and discussions await you again. All well-known specialist exhibitors from the fields of biogas\, wood gas and hydrogen will be there! We expect over 400 visitors. \nThe following topics will be discussed: \n· Hydrogen \n· CO2 \n· Wood gas \n· Biomethane \n· Sustainability & proof of origin \n· Bioeconomy Be there and register here. The congress is held in German language. \nYou can find more information at www.greengasservice.at and www.kompost-biogas.info.
URL:https://www.ergar.org/event/green-gas-congress/
CATEGORIES:External event
ATTACH;FMTTYPE=image/png:https://www.ergar.org/wp-content/uploads/2025/10/Logo-grungas25_BHW_v6-mit-grau.png
END:VEVENT
BEGIN:VEVENT
DTSTART;TZID=Europe/Brussels:20251215T140000
DTEND;TZID=Europe/Brussels:20251215T153000
DTSTAMP:20260420T065131
CREATED:20251020T095108Z
LAST-MODIFIED:20251020T095743Z
UID:3728-1765807200-1765812600@www.ergar.org
SUMMARY:ERGaR Biomethane Market Outlook
DESCRIPTION:ERGaR Biomethane Market Outlook Webinar📅 15 December 2025 | 14:00–15:30 CET \nJoin ERGaR and leading market experts for a discussion on the European biomethane market: looking back at key developments in 2025 and ahead to what 2026 may bring. \nThe webinar will feature insights from industry analysts\, survey results\, and trading perspectives\, followed by a panel debate and Q&A. \nDon’t miss this opportunity to gain an up-to-date overview of trends shaping the future of biomethane in Europe. \n👉 Register now to secure your place!
URL:https://www.ergar.org/event/ergar-biomethane-market-outlook/
CATEGORIES:ERGaR
ATTACH;FMTTYPE=image/png:https://www.ergar.org/wp-content/uploads/2025/10/1.png
END:VEVENT
BEGIN:VEVENT
DTSTART;TZID=UTC:20260112T100000
DTEND;TZID=UTC:20260112T113000
DTSTAMP:20260420T065131
CREATED:20251216T115637Z
LAST-MODIFIED:20251216T124615Z
UID:3850-1768212000-1768217400@www.ergar.org
SUMMARY:Webinar: Biomethane in Climate Reporting
DESCRIPTION:ERGaR and the European Biogas Association invite you to the joint webinar “Make Biomethane Count: Climate Reporting and Compliance” on Monday\, 12 January\, from 10:00 to 11:30. Learn how new rules under CSRD\, GHG Protocol\, and SBTi affect the reporting of renewable fuels\, and how to ensure real emissions reductions are recognised. \nTopics include: \n\nIntegration of biomethane into corporate climate reporting\nThe role of renewable gas certificates in ensuring credibility\nKey regulatory updates for 2025 and beyond\n\nAgenda: \n\nIntroduction to biomethane certification – Tim Hamers\, ERGaR\nGHG Protocol – Tim Hamers\, ERGaR\nSBTi – Tim Hamers\, ERGaR\nCSRD/ESRS – Anthony Lorin\, EBA\nETS – Anthony Lorin\, EBA\nCPD – Hans Näsman\, independent researcher\nQ&A\n\nRegister: Link \nStay informed and ahead of the evolving climate reporting landscape.
URL:https://www.ergar.org/event/webinar-biomethane-climate-reportin/
ATTACH;FMTTYPE=image/png:https://www.ergar.org/wp-content/uploads/2025/12/ERGaR-EBA-campaign-post-5.png
END:VEVENT
BEGIN:VEVENT
DTSTART;TZID=UTC:20260210T163000
DTEND;TZID=UTC:20260210T190000
DTSTAMP:20260420T065131
CREATED:20260113T140503Z
LAST-MODIFIED:20260113T140749Z
UID:3882-1770741000-1770750000@www.ergar.org
SUMMARY:GO2 Markets x ERGaR | E-World After-Drinks Networking
DESCRIPTION:GO2 Markets and ERGaR  are partnering to host an after-hours networking event during E-World for participants active in the biomethane market. \n​The event is designed to bring together stakeholders from across the biomethane sector\, offering a focused setting to connect\, share perspectives and continue conversations beyond the exhibition floor. \n🔗 Register via this link. \n​📍 Location: GO2 Markets booth – Booth # 2D116
URL:https://www.ergar.org/event/go2-markets-x-ergar-e-world-drinks-networking/
LOCATION:Essen\, Gernamy
ATTACH;FMTTYPE=image/png:https://www.ergar.org/wp-content/uploads/2026/01/E-world-2026-LumaInvite-ERGaR-1B-scaled.png
END:VEVENT
BEGIN:VEVENT
DTSTART;TZID=UTC:20260414T080000
DTEND;TZID=UTC:20260415T170000
DTSTAMP:20260420T065131
CREATED:20260129T140503Z
LAST-MODIFIED:20260129T140503Z
UID:3907-1776153600-1776272400@www.ergar.org
SUMMARY:International Biogas Congress & Expo | 14–15 April 2026 | Brussels
DESCRIPTION:The International Biogas Congress & Expo is Europe’s leading event dedicated exclusively to biogas and biomethane. Bringing together producers\, utilities\, transport operators\, policymakers\, investors and technology providers\, the congress focuses on the strategies\, technologies and regulation driving the decarbonisation of energy\, transport and industry. \nAcross two packed days\, delegates will gain practical insight into optimising feedstock sourcing\, upgrading and expanding facilities\, navigating regulation and unlocking project finance. Designed to deliver both strategic perspective and real commercial opportunity\, the congress provides a vital platform for collaboration across the entire biogas value chain. \nCo-located with the Biofuels International Conference & Expo and the Sustainable Aviation Fuels Summit\, the event offers unrivalled cross-sector networking\, uniting the full low-carbon fuels ecosystem under one roof. \nWhether you’re a project developer\, energy producer\, investor or policymaker\, the International Biogas Congress & Expo is the essential meeting place for 2026. \nRegister here: https://bioenergy-news.com/conference/ \nExclusive Member Offer: Register now and receive 30% off your delegate pass. Please note this discount is available for registrations made via bank transfer only.
URL:https://www.ergar.org/event/international-biogas-congress-expo-14-15-april-2026-brussels/
CATEGORIES:External event
ATTACH;FMTTYPE=image/jpeg:https://www.ergar.org/wp-content/uploads/2026/01/biogas_26_members30_1080x1080.jpg
END:VEVENT
BEGIN:VEVENT
DTSTART;VALUE=DATE:20260421
DTEND;VALUE=DATE:20260422
DTSTAMP:20260420T065131
CREATED:20251104T175041Z
LAST-MODIFIED:20251104T175153Z
UID:3811-1776729600-1776815999@www.ergar.org
SUMMARY:European Biomethane Trading Conference
DESCRIPTION:
URL:https://www.ergar.org/event/european-biomethane-trading-conference/
CATEGORIES:ERGaR
ATTACH;FMTTYPE=image/png:https://www.ergar.org/wp-content/uploads/2025/11/LI-VISUAL-1.png
END:VEVENT
END:VCALENDAR