BEGIN:VCALENDAR
VERSION:2.0
PRODID:-//ERGaR - ECPv6.2.9//NONSGML v1.0//EN
CALSCALE:GREGORIAN
METHOD:PUBLISH
X-WR-CALNAME:ERGaR
X-ORIGINAL-URL:https://www.ergar.org
X-WR-CALDESC:Events for ERGaR
REFRESH-INTERVAL;VALUE=DURATION:PT1H
X-Robots-Tag:noindex
X-PUBLISHED-TTL:PT1H
BEGIN:VTIMEZONE
TZID:UTC
BEGIN:STANDARD
TZOFFSETFROM:+0000
TZOFFSETTO:+0000
TZNAME:UTC
DTSTART:20250101T000000
END:STANDARD
END:VTIMEZONE
BEGIN:VEVENT
DTSTART;VALUE=DATE:20250611
DTEND;VALUE=DATE:20250613
DTSTAMP:20260419T232054
CREATED:20250305T095034Z
LAST-MODIFIED:20250305T095120Z
UID:3370-1749600000-1749772799@www.ergar.org
SUMMARY:6th European Conference Hydrogen & P2X 2025
DESCRIPTION:Join us at the 6th European Conference Hydrogen & P2X 2025\, taking place on June 11-12 in Copenhagen! \nThis year’s edition features an updated agenda with industry trends\, top-tier speakers\, and in-depth technical discussions. \nAs Europe pushes forward with decarbonization\, the event will cover policy updates\, technological advancements\, and real-world case studies shaping the hydrogen landscape. \nERGaR members can benefit from a discount. \nFor more information\, please contact Spyridoula at spyridoula.grammatikou@ergar.org. \nLearn more about the event here.
URL:https://www.ergar.org/event/6th-european-conference-hydrogen-p2x-2025/
ATTACH;FMTTYPE=image/jpeg:https://www.ergar.org/wp-content/uploads/2025/03/Fortes_Hydrogen2025_1920x1080.jpg
END:VEVENT
BEGIN:VEVENT
DTSTART;VALUE=DATE:20250617
DTEND;VALUE=DATE:20250619
DTSTAMP:20260419T232054
CREATED:20250505T105608Z
LAST-MODIFIED:20250505T105608Z
UID:3440-1750118400-1750291199@www.ergar.org
SUMMARY:Sustainable Fuels Europe Summit 2025
DESCRIPTION:As a supporting partner\, we are excited to announce the Sustainable Fuels Europe Summit 2025 – Europe’s leading event for advancing sustainable fuels\, bringing together key stakeholders to accelerate the adoption of sustainable aviation fuel (SAF)\, biomethane\, and sustainable marine fuels (SMF). \nTaking place on 17-18 June at IFEMA Madrid\, SFES2025 will feature 500+ top decision-makers\, discussing regulatory policies\, industry value chains\, and breakthrough technologies shaping the future of clean fuels. \nERGaR members can benefit from a discount. \nPlease for more information email Spyridoula at spyridoula.grammatikou@ergar.org. \nFind out more about the event here.
URL:https://www.ergar.org/event/sustainable-fuels-europe-summit-2025/
CATEGORIES:External event
ATTACH;FMTTYPE=image/png:https://www.ergar.org/wp-content/uploads/2025/05/sfes-1500x844-1-scaled.png
END:VEVENT
BEGIN:VEVENT
DTSTART;VALUE=DATE:20250624
DTEND;VALUE=DATE:20250626
DTSTAMP:20260419T232054
CREATED:20250312T115514Z
LAST-MODIFIED:20250312T115909Z
UID:3378-1750723200-1750895999@www.ergar.org
SUMMARY:ERGaR at the International Biogas Congress & Expo 2025
DESCRIPTION:Join us at the International Biogas Congress & Expo 2025 on June 24-25 in Brussels. Industry leaders\, policymakers\, and innovators will come together to discuss the future of biomethane\, biogas\, and certification. \nTim Hamers will speak on Biogenic/Biogas CO2 Certification\, covering key use cases\, certification requirements\, and a new scheme to simplify CO2 trading. \nERGaR members get a discount! For information\, please contact Spyridoula Grammatikou at spyridoula.grammatikou@ergar.org. \nDon’t miss this key event—register now. \nCheck the full agenda here.
URL:https://www.ergar.org/event/ergar-international-biogas-congress-expo-2025/
ATTACH;FMTTYPE=image/png:https://www.ergar.org/wp-content/uploads/2025/03/for-ERGaR-memebrs-e1741780729845.png
END:VEVENT
END:VCALENDAR