BEGIN:VCALENDAR
VERSION:2.0
PRODID:-//ERGaR - ECPv6.2.9//NONSGML v1.0//EN
CALSCALE:GREGORIAN
METHOD:PUBLISH
X-WR-CALNAME:ERGaR
X-ORIGINAL-URL:https://www.ergar.org
X-WR-CALDESC:Events for ERGaR
REFRESH-INTERVAL;VALUE=DURATION:PT1H
X-Robots-Tag:noindex
X-PUBLISHED-TTL:PT1H
BEGIN:VTIMEZONE
TZID:Europe/Brussels
BEGIN:DAYLIGHT
TZOFFSETFROM:+0100
TZOFFSETTO:+0200
TZNAME:CEST
DTSTART:20250330T010000
END:DAYLIGHT
BEGIN:STANDARD
TZOFFSETFROM:+0200
TZOFFSETTO:+0100
TZNAME:CET
DTSTART:20251026T010000
END:STANDARD
END:VTIMEZONE
BEGIN:VEVENT
DTSTART;TZID=Europe/Brussels:20251202T080000
DTEND;TZID=Europe/Brussels:20251204T170000
DTSTAMP:20260419T130358
CREATED:20251001T083000Z
LAST-MODIFIED:20251001T083000Z
UID:3673-1764662400-1764867600@www.ergar.org
SUMMARY:Green Gas Congress
DESCRIPTION:Green Gas Service GmbH\, in cooperation with the Compost and Biogas Association of Austria\, as well as the Upper Austrian Chamber of Commerce\, is organizing the 3-day Green Gas Congress at the Messe Wels from December 2nd to 4th\, 2025. \nThis year\, interesting lectures and discussions await you again. All well-known specialist exhibitors from the fields of biogas\, wood gas and hydrogen will be there! We expect over 400 visitors. \nThe following topics will be discussed: \n· Hydrogen \n· CO2 \n· Wood gas \n· Biomethane \n· Sustainability & proof of origin \n· Bioeconomy Be there and register here. The congress is held in German language. \nYou can find more information at www.greengasservice.at and www.kompost-biogas.info.
URL:https://www.ergar.org/event/green-gas-congress/
CATEGORIES:External event
ATTACH;FMTTYPE=image/png:https://www.ergar.org/wp-content/uploads/2025/10/Logo-grungas25_BHW_v6-mit-grau.png
END:VEVENT
BEGIN:VEVENT
DTSTART;TZID=Europe/Brussels:20251215T140000
DTEND;TZID=Europe/Brussels:20251215T153000
DTSTAMP:20260419T130358
CREATED:20251020T095108Z
LAST-MODIFIED:20251020T095743Z
UID:3728-1765807200-1765812600@www.ergar.org
SUMMARY:ERGaR Biomethane Market Outlook
DESCRIPTION:ERGaR Biomethane Market Outlook Webinar📅 15 December 2025 | 14:00–15:30 CET \nJoin ERGaR and leading market experts for a discussion on the European biomethane market: looking back at key developments in 2025 and ahead to what 2026 may bring. \nThe webinar will feature insights from industry analysts\, survey results\, and trading perspectives\, followed by a panel debate and Q&A. \nDon’t miss this opportunity to gain an up-to-date overview of trends shaping the future of biomethane in Europe. \n👉 Register now to secure your place!
URL:https://www.ergar.org/event/ergar-biomethane-market-outlook/
CATEGORIES:ERGaR
ATTACH;FMTTYPE=image/png:https://www.ergar.org/wp-content/uploads/2025/10/1.png
END:VEVENT
END:VCALENDAR